BEGIN:VCALENDAR
VERSION:2.0
PRODID:-//ChamberMaster//Event Calendar 2.0//EN
METHOD:PUBLISH
X-PUBLISHED-TTL:P3D
REFRESH-INTERVAL:P3D
CALSCALE:GREGORIAN
BEGIN:VEVENT
DTSTART:20230318T130000Z
DTEND:20230318T150000Z
X-MICROSOFT-CDO-ALLDAYEVENT:FALSE
SUMMARY:AMVETS Post Veterans Breakfast
DESCRIPTION:The weather's so HOT it's frightful\, but the camaraderie is always delightful\, at your American Veterans Post!
X-ALT-DESC;FMTTYPE=text/html:The weather&#39\;s so HOT it&#39\;s frightful\, but the camaraderie is always delightful\, at your American Veterans Post!
LOCATION:AMVETS Post TX115
UID:e.2036.19279
SEQUENCE:3
DTSTAMP:20260419T140336Z
URL:https://www.kylechamber.org/events/details/amvets-post-veterans-breakfast-03-18-2023-19279
END:VEVENT

END:VCALENDAR
