BEGIN:VCALENDAR
VERSION:2.0
PRODID:-//ChamberMaster//Event Calendar 2.0//EN
METHOD:PUBLISH
X-PUBLISHED-TTL:P3D
REFRESH-INTERVAL:P3D
CALSCALE:GREGORIAN
BEGIN:VEVENT
DTSTART:20200212T003000Z
DTEND:20200212T020000Z
X-MICROSOFT-CDO-ALLDAYEVENT:FALSE
SUMMARY:FREE Weight Loss Workshop - Buda's Protein Weight Loss Center
DESCRIPTION:Learn all about: The #1 Rated diet in the Nation Why doctor's are recommending it to their patients How body fat is effectively burned The relationship between insulin and weight gain Which foods are best suited for healthy weight management When\, why & in what combination to eat carbs\, fats & proteins Weight stabilization methods and maintenance habits Most importantly - taste the products! PLEASE RSVP
X-ALT-DESC;FMTTYPE=text/html:<span style="color:#363636"><span style="font-family:verdana\,sans-serif">Learn all about: The #1 Rated diet in the Nation Why doctor&#39\;s are recommending it to their patients How body fat is effectively burned The relationship between insulin and weight gain Which foods are best suited for healthy weight management When\, why &amp\; in what combination to eat carbs\, fats &amp\; proteins Weight stabilization methods and maintenance habits Most importantly - taste the products! PLEASE RSVP</span></span>
LOCATION:Buda's Protein Weight Loss Center 825 Main Street\, Suite 150 Buda\, TX 78610 512-295-0173
UID:e.2036.10218
SEQUENCE:3
DTSTAMP:20260425T230339Z
URL:https://www.kylechamber.org/events/details/free-weight-loss-workshop-buda-s-protein-weight-loss-center-02-11-2020-10218
END:VEVENT

END:VCALENDAR
