BEGIN:VCALENDAR
VERSION:2.0
PRODID:-//ChamberMaster//Event Calendar 2.0//EN
METHOD:PUBLISH
X-PUBLISHED-TTL:P3D
REFRESH-INTERVAL:P3D
CALSCALE:GREGORIAN
BEGIN:VEVENT
DTSTART:20240622T230000Z
DTEND:20240623T023000Z
X-MICROSOFT-CDO-ALLDAYEVENT:FALSE
SUMMARY:Star Wars Unlimited Weekly Play
DESCRIPTION:Star Wars : Unlimited has several different formats\, each of which slightly alters the experience of the game. Formats introduce rules for the number of players\, how to build your decks\, and more.\n\n\n\nEach format is designed to let you enjoy Star Wars: Unlimited in all sorts of different ways\, so be sure to come out each week and find the best one for you!  \n\n\n\nStar Wars: Unlimited is a fast-paced\, easy-to-learn trading card game of unlimited possibilities. The Spark of Rebellion set features characters and content from the original Star Wars trilogy\, Rogue One: A Star Wars Story\, and the Star Wars: Rebels series\, and more.\n\n\n\nDon't miss this opportunity to join fellow Star Wars enthusiasts for fun\, competition\, and community. Sign up today and may the Force be with you!
X-ALT-DESC;FMTTYPE=text/html:<br />\n<br />\n<br />\nStar Wars&trade\;: Unlimited has several different formats\, each of which slightly alters the experience of the game. Formats introduce rules for the number of players\, how to build your decks\, and more.<br />\n<br />\nEach format is designed to let you enjoy Star Wars: Unlimited in all sorts of different ways\, so be sure to come out each week and find the best one for you!&nbsp\;&nbsp\;<br />\n<br />\nStar Wars: Unlimited is a fast-paced\, easy-to-learn trading card game of unlimited possibilities. The Spark of Rebellion set features characters and content from the original Star Wars trilogy\, Rogue One: A Star Wars Story\, and the Star Wars: Rebels series\, and more.<br />\n<br />\nDon&#39\;t miss this opportunity to join fellow Star Wars enthusiasts for fun\, competition\, and community. Sign up today and may the Force be with you!
LOCATION:LionHeart Hobby 5500 FM2770 Suite 111 Kyle\, TX\, 78640
UID:e.2036.23945
SEQUENCE:3
DTSTAMP:20260426T022704Z
URL:https://www.kylechamber.org/events/details/star-wars-unlimited-weekly-play-06-22-2024-23945
END:VEVENT

END:VCALENDAR
